BEGIN:VCALENDAR
VERSION:2.0
PRODID:-//Sanistrella
CALSCALE:GREGORIAN
METHOD:PUBLISH
X-WR-CALNAME:Sanistrella
X-ORIGINAL-URL:https://www.sanistrella.nl/shop/events/sacred-sinai-22-31-okt-2026/
X-WR-CALDESC:Sacred Sinai: A Journey Between Sea, Sand, Soul &#038; Stars | 22 -31 Okt 2026
BEGIN:VTIMEZONE
TZID:Europe/Helsinki
END:VTIMEZONE
BEGIN:VEVENT
DTSTART;TZID=Europe/Helsinki:20261022T160000
DTEND;TZID=Europe/Helsinki:20261031T230000
DTSTAMP:20260421T124437
UID:30660-esther@sanistrella.nl
SUMMARY:Sacred Sinai: A Journey Between Sea, Sand, Soul & Stars | 22 -31 Okt 2026
DESCRIPTION:
URL:https://www.sanistrella.nl/shop/events/sacred-sinai-22-31-okt-2026/
LOCATION:
END:VEVENT
END:VCALENDAR
