BEGIN:VCALENDAR
VERSION:2.0
PRODID:-//Sanistrella
CALSCALE:GREGORIAN
METHOD:PUBLISH
X-WR-CALNAME:Sanistrella
X-ORIGINAL-URL:https://www.sanistrella.nl/shop/events/dolfijnenreis-sataya-reef-egypte-26-sept-2026/
X-WR-CALDESC:DOLFIJNENREIS &#8211; Sataya Reef &#8211; Egypte | 26 Sep &#8211; 3 Oct 2026
BEGIN:VTIMEZONE
TZID:Europe/Helsinki
END:VTIMEZONE
BEGIN:VEVENT
DTSTART;TZID=Europe/Helsinki:20260926T080000
DTEND;TZID=Europe/Helsinki:20261003T220000
DTSTAMP:20260421T123027
UID:24112-esther@sanistrella.nl
SUMMARY:DOLFIJNENREIS – Sataya Reef – Egypte | 26 Sep – 3 Oct 2026
DESCRIPTION:
URL:https://www.sanistrella.nl/shop/events/dolfijnenreis-sataya-reef-egypte-26-sept-2026/
LOCATION:
END:VEVENT
END:VCALENDAR
